BEGIN:VCALENDAR
VERSION:2.0
PRODID:-//Maritime College Alumni Association - ECPv6.15.16//NONSGML v1.0//EN
CALSCALE:GREGORIAN
METHOD:PUBLISH
X-WR-CALNAME:Maritime College Alumni Association
X-ORIGINAL-URL:https://www.maritimecollegeaa.org
X-WR-CALDESC:Events for Maritime College Alumni Association
REFRESH-INTERVAL;VALUE=DURATION:PT1H
X-Robots-Tag:noindex
X-PUBLISHED-TTL:PT1H
BEGIN:VTIMEZONE
TZID:America/New_York
BEGIN:DAYLIGHT
TZOFFSETFROM:-0500
TZOFFSETTO:-0400
TZNAME:EDT
DTSTART:20210314T070000
END:DAYLIGHT
BEGIN:STANDARD
TZOFFSETFROM:-0400
TZOFFSETTO:-0500
TZNAME:EST
DTSTART:20211107T060000
END:STANDARD
BEGIN:DAYLIGHT
TZOFFSETFROM:-0500
TZOFFSETTO:-0400
TZNAME:EDT
DTSTART:20220313T070000
END:DAYLIGHT
BEGIN:STANDARD
TZOFFSETFROM:-0400
TZOFFSETTO:-0500
TZNAME:EST
DTSTART:20221106T060000
END:STANDARD
BEGIN:DAYLIGHT
TZOFFSETFROM:-0500
TZOFFSETTO:-0400
TZNAME:EDT
DTSTART:20230312T070000
END:DAYLIGHT
BEGIN:STANDARD
TZOFFSETFROM:-0400
TZOFFSETTO:-0500
TZNAME:EST
DTSTART:20231105T060000
END:STANDARD
BEGIN:DAYLIGHT
TZOFFSETFROM:-0500
TZOFFSETTO:-0400
TZNAME:EDT
DTSTART:20240310T070000
END:DAYLIGHT
BEGIN:STANDARD
TZOFFSETFROM:-0400
TZOFFSETTO:-0500
TZNAME:EST
DTSTART:20241103T060000
END:STANDARD
BEGIN:DAYLIGHT
TZOFFSETFROM:-0500
TZOFFSETTO:-0400
TZNAME:EDT
DTSTART:20250309T070000
END:DAYLIGHT
BEGIN:STANDARD
TZOFFSETFROM:-0400
TZOFFSETTO:-0500
TZNAME:EST
DTSTART:20251102T060000
END:STANDARD
BEGIN:DAYLIGHT
TZOFFSETFROM:-0500
TZOFFSETTO:-0400
TZNAME:EDT
DTSTART:20260308T070000
END:DAYLIGHT
BEGIN:STANDARD
TZOFFSETFROM:-0400
TZOFFSETTO:-0500
TZNAME:EST
DTSTART:20261101T060000
END:STANDARD
BEGIN:DAYLIGHT
TZOFFSETFROM:-0500
TZOFFSETTO:-0400
TZNAME:EDT
DTSTART:20270314T070000
END:DAYLIGHT
BEGIN:STANDARD
TZOFFSETFROM:-0400
TZOFFSETTO:-0500
TZNAME:EST
DTSTART:20271107T060000
END:STANDARD
END:VTIMEZONE
BEGIN:VEVENT
DTSTART;TZID=America/New_York:20260129T180000
DTEND;TZID=America/New_York:20260129T220000
DTSTAMP:20260423T073002
CREATED:20250925T173357Z
LAST-MODIFIED:20251223T161945Z
UID:2058-1769709600-1769724000@www.maritimecollegeaa.org
SUMMARY:2026 MCAA Distinguished Alumni Honors Dinner
DESCRIPTION:2026 Honorees\nJohn Valvo ’83 and Charlie Munsch ’73\nThursday\, January 29\, 2026\nTribeca Rooftop\n2 Desbrosses Street\nNew York\, NY 10013 \nInformation & Registration
URL:https://www.maritimecollegeaa.org/event/2026-mcaa-distinguished-alumni-honors-dinner/
LOCATION:Tribeca Rooftop\, 10 Desbrosses St.\, New York\, New York\, 10013\, United States
CATEGORIES:Awards,Dinner
ATTACH;FMTTYPE=image/png:https://www.maritimecollegeaa.org/wp-content/uploads/Tribeca-view.png
ORGANIZER;CN="Maritime College Alumni Association":MAILTO:Director@maritimecollegeaa.org
END:VEVENT
BEGIN:VEVENT
DTSTART;TZID=America/New_York:20251017T080000
DTEND;TZID=America/New_York:20251018T235900
DTSTAMP:20260423T073002
CREATED:20250708T160731Z
LAST-MODIFIED:20251010T210400Z
UID:1924-1760688000-1760831940@www.maritimecollegeaa.org
SUMMARY:Class of 1985 - 40th Reunion!
DESCRIPTION:CLASS OF 1985 – Homecoming and Reunion\nThe Class of 1985 reunion will be held at: \nThe Westchester Marriott\n670 White Plains Rd\,\nTarrytown\, NY 10591\n(914) 631-2200 \nNEW!! Friday\, October 17\, 2025\n7:00 pm\nInformal Meet-up\nCaptain Lawrence Brewing Company\n444 Saw Mill River Rd.\, Elmsford\, NY 10523 \nSaturday\, October 18\, 2025\n1900 -2300 hours \nItalian buffet dinner\, 3 hours of beer & wine\, sodas\, coffee\, tea\, cash bar for mixed drinks & cocktails. \nCost: $175 per person \n• The Dress Code preferred for the evening banquet is smart casual • \n• We are collecting photos to project at the event. If you have good quality photos\, please scan and email to 1985domer@gmail.com • \n• If you have any memorabilia to lend for our table\, feel free to bring it along (label items with your name).  This could be anything interesting\, pap sheets\, t-shirts\, flags\, oars\, mast slips\, etc. • \n  \nInfo & Registration \n\nHotel Room Block\n \nUpdate on Hotel Accommodations for Alumni Weekend \nCourtyard Tarrytown Westchester County\nis offering a special group rate of $299 per night for Maritime College guests.\nThe room rate is good for Friday and Saturday night of Homecoming weekend\, October 17 & 18\, 2025\nThe block of rooms will be held until Friday\, September 19\, 2025. \nClick HERE to book your accommodations. Guests can also call 914-631-1122 and ask to book a reservation in the Maritime College group. \nWestchester Marriott – Now Full\nWe had a block of rooms available at the Westchester Marriott\, allowing guests to stay in the same location as the reunion dinner.\nPlease note: This block is now full. \nNote: We are sharing the ballroom event\, with the Class of 1980. \nIf you want something different\, these hotels are very close: \nSheraton Tarrytown  •   Hampton Inn Tarrytown  •  Courtyard by Marriott\n \nPlease stay tuned for updates and the registration link for our party! \nSo far\, 100 people are committed to attending this event! \nQuestions: 1985domer@gmail.com \n• \nFriday Ancient Mariner Golf \nWe already have foursomes with golfers from ’85 and would love to see more of us there. \nThe outing starts early on Friday\, October 17 with 0830 shotgun start and we will finish in the afternoon. \nIf you are not registered yet\, please register HERE \n• \nFriday Night Meet-Up\n7:00 pm\nInformal\nCaptain Lawrence Brewing Company\n444 Saw Mill River Rd.\, Elmsford\, NY 10523 \n• \nShuttle to Homecoming and Tailgate on Saturday 10/18 \nParking at homecoming is always a challenge – so here’s an option! For only $20 per person\, we are offering a shuttle bus from the Westchester Marriott Parking Lot to the College Campus. This may fill up fast and it is first-come\, first-serve. \nThe bus will depart the Marriott at 0930 and return to the Marriott (departing from outside the college gate) at 1600. All times sharp. \nIf you are interested – sign up now: Please email 1985domer@gmail.com with your name\, that you are interested in the shuttle\, no. of passengers traveling and method of payment. Either Venmo Heidi (@heidibenedikt) up front or state that you will bring cash. \n• \n1985 Tailgate @ Homecoming \nSince it’s a reunion year\, we’ll be taking over a few parking spots near the gym for our class tailgate. We’ll have some tables\, chairs\, sandwiches\, snacks\, drinks (including soda\, beer\, and water)\, and a good time waiting for you. We’d love for everyone to swing by and say hi! \nIf you or your family grab a bite or a drink\, feel free to toss a few bucks in the bucket to help cover the cost. Looking forward to seeing you there!
URL:https://www.maritimecollegeaa.org/event/class-of-1985-40th-reunion/
CATEGORIES:Dinner,Homecoming,Latest
ATTACH;FMTTYPE=application/pdf:https://www.maritimecollegeaa.org/wp-content/uploads/Class-of-85-graphic.pdf
ORGANIZER;CN="Dan McGuire & Heidi Benedikt":MAILTO:1985domer@gmail.com
END:VEVENT
BEGIN:VEVENT
DTSTART;TZID=America/New_York:20251017T080000
DTEND;TZID=America/New_York:20251018T235900
DTSTAMP:20260423T073002
CREATED:20250630T182026Z
LAST-MODIFIED:20250802T204355Z
UID:1894-1760688000-1760831940@www.maritimecollegeaa.org
SUMMARY:Class of 1980 - 45th Reunion!
DESCRIPTION:CLASS OF 1980 – Homecoming and Reunion\nThe Class of 1980 reunion will be held at: \nThe Westchester Marriott\n670 White Plains Rd\,\nTarrytown\, NY 10591 \nSaturday\, October 18\, 2025\n1900 -2300 hours \nItalian buffet dinner\, 3 hours of beer & wine\, sodas\, coffee\, tea\, cash bar for mixed drinks & cocktails. \nCost: $175 per person \nInfo & Registration \nHotel Room Block \nUpdate on Hotel Accommodations for Alumni Weekend \nCourtyard Tarrytown Westchester County\nis offering a special group rate of $299 per night for Maritime College guests.\nThe room rate is good for Friday and Saturday night of Homecoming weekend\, October 17 & 18\, 2025\nThe block of rooms will be held until Friday\, September 19\, 2025. \nClick HERE to book your accommodations. Guests can also call 914-631-1122 and ask to book a reservation in the Maritime College group. \nWestchester Marriott – Now Full\nWe had a block of rooms available at the Westchester Marriott\, allowing guests to stay in the same location as the reunion dinner.\nPlease note: This block is now full. \nNote: We are sharing the ballroom event\, and we have reserved the rooms jointly with the Class of 1985\, so the Reservation says 40th Reunion – this is the correct link for the Class of 1980. The block of rooms will be held until September 26th\, 2025. \nIf you want something different\, these hotels are very close: \nSheraton Tarrytown  •   Hampton Inn Tarrytown  •  Courtyard by Marriott \nPlease stay tuned for updates and the registration link for our party! \nSo far\, 70 people are committed to attending this event!
URL:https://www.maritimecollegeaa.org/event/class-of-1980-45th-reunion-2/
CATEGORIES:Dinner,Homecoming,Latest
ATTACH;FMTTYPE=application/pdf:https://www.maritimecollegeaa.org/wp-content/uploads/Class-of-80-graphic.pdf
ORGANIZER;CN="Stephen Carbery '80":MAILTO:president@maritimecollegeaa.org
END:VEVENT
BEGIN:VEVENT
DTSTART;TZID=America/New_York:20250130T180000
DTEND;TZID=America/New_York:20250130T180000
DTSTAMP:20260423T073002
CREATED:20241119T190917Z
LAST-MODIFIED:20250414T175749Z
UID:1453-1738260000-1738260000@www.maritimecollegeaa.org
SUMMARY:A Sesquicentennial Celebration
DESCRIPTION:A Sesquicentennial Celebration: Commemorating the 150th Anniversary of the Founding of the New York Nautical School · State University New York Maritime College (1874–2024)\nThursday\, January 30\, 2025\nTribeca Rooftop\n10 Desbrosses Street\nNew York\, NY 10013 \nFull Event Page\nGala Historial Video\n  \nAccommodations & Travel Info\n  \nKeynote Speakers \nRear Admiral Philip Sobeck\, Commander on the U.S. Navy’s Military Sealift Command\, USNA ’91 \nDr. Salvatore Mercogliano ’89\, Maritime Historian and Associate Professor Of History & Chair\, Campbell University \nJoin us for an unforgettable evening.
URL:https://www.maritimecollegeaa.org/event/2025-mcaa-150-years-gala/
LOCATION:Tribeca Rooftop\, 2 Desbrosses Street\, New York\, NY\, 10013\, United States
CATEGORIES:Awards,Dinner
END:VEVENT
BEGIN:VEVENT
DTSTART;TZID=America/New_York:20240125T180000
DTEND;TZID=America/New_York:20240125T220000
DTSTAMP:20260423T073002
CREATED:20231219T194245Z
LAST-MODIFIED:20231219T203518Z
UID:1093-1706205600-1706220000@www.maritimecollegeaa.org
SUMMARY:2024 MCAA Distinguished Alumni Honors Dinner
DESCRIPTION:The MCAA Distinguished Alumni Honors Dinner\nThursday\, January 25\, 2024\nTribeca 360°\n10 Desbrosses Street\nNew York\, NY 10013 \nHonorees: \nDistinguished Alumnus of the Year:\nJoseph P. Starck ’90\nPresident\, The Great Lakes Towing Company \nLifetime Achievement:\nCapt. Robert K. Cook III ’80\nCaptain\, The Pilots’ Association for the Bay & River Delaware\nPresident and Co-Founder\, Organization of Black Maritime Graduates \nClick here for Registration and Sponsorship Opportunities
URL:https://www.maritimecollegeaa.org/event/2024-mcaa-distinguished-alumni-honors-dinner/
LOCATION:Tribeca Rooftop\, 10 Desbrosses St.\, New York\, New York\, 10013\, United States
CATEGORIES:Awards,Dinner
ATTACH;FMTTYPE=image/jpeg:https://www.maritimecollegeaa.org/wp-content/uploads/2024-Honorees-Side-by-Side-V2-2.jpg
ORGANIZER;CN="Maritime College Alumni Association":MAILTO:Director@maritimecollegeaa.org
END:VEVENT
BEGIN:VEVENT
DTSTART;TZID=America/New_York:20230126T180000
DTEND;TZID=America/New_York:20230126T220000
DTSTAMP:20260423T073002
CREATED:20221209T210511Z
LAST-MODIFIED:20221209T210511Z
UID:859-1674756000-1674770400@www.maritimecollegeaa.org
SUMMARY:MCAA Distinguished Alumni Honors Dinner
DESCRIPTION:The MCAA Distinguished Alumni Honors Dinner \nThursday\, January 26\, 2022 \nTribeca 360° \nHonorees: \nDistinguished Alumnus of the Year:\nKevin Graney ’86\nPresident of General Dynamics Electric Boat \nSpecial Recognition:\nProf. Peter Vecchio ’86\nChair\, Marine Transportation Department\, SUNY Maritime College \nClick here for Registration and Sponsorship Opportunities
URL:https://www.maritimecollegeaa.org/event/mcaa-distinguished-alumni-honors-dinner/
LOCATION:Tribeca Rooftop\, 10 Desbrosses St.\, New York\, New York\, 10013\, United States
CATEGORIES:Awards,Dinner
ATTACH;FMTTYPE=image/jpeg:https://www.maritimecollegeaa.org/wp-content/uploads/C19A5244-scaled.jpg
ORGANIZER;CN="Maritime College Alumni Association":MAILTO:Director@maritimecollegeaa.org
END:VEVENT
BEGIN:VEVENT
DTSTART;TZID=America/New_York:20220429T180000
DTEND;TZID=America/New_York:20220429T220000
DTSTAMP:20260423T073002
CREATED:20200424T230933Z
LAST-MODIFIED:20220317T162731Z
UID:111-1651255200-1651269600@www.maritimecollegeaa.org
SUMMARY:New Date: MCAA Distinguished Alumni Awards Dinner
DESCRIPTION:The MCAA Distinguished Alumni Awards Dinner \nFriday\, April 29\, 2022 \nTribeca 360° \nHonorees: \nDistinguished Alumnus of the Year:\nGriff Lynch ’88\nExecutive Director\, Georgia Ports Authority \nLifetime Achievement:\nJames Starace ’81\nChief Engineer\, The Port Authority of New York and New Jersey \nSpecial Recognition:\nMichael W. Toner ’65\nExecutive Vice President – Marine Systems\, General Dynamics (Ret) \nClick here for Sponsorship Opportunities
URL:https://www.maritimecollegeaa.org/event/https-maritimecollegeaa-wufoo-com-forms-myc8xfc1c0lu16/
LOCATION:Tribeca Rooftop\, 10 Desbrosses St.\, New York\, New York\, 10013\, United States
CATEGORIES:Awards,Dinner
ATTACH;FMTTYPE=image/jpeg:https://www.maritimecollegeaa.org/wp-content/uploads/2021-Awardees.jpg
ORGANIZER;CN="Maritime College Alumni Association":MAILTO:Director@maritimecollegeaa.org
END:VEVENT
END:VCALENDAR